BEGIN:VCALENDAR
VERSION:2.0
PRODID:-//eventon.com NONSGML v1.0//EN
CALSCALE:GREGORIAN
METHOD:PUBLISH
BEGIN:VEVENT
UID:69e7488d70160
DTSTAMP:20260421T095109Z
DTSTART:20230418
DTEND:20230419
LOCATION:
SUMMARY:Spring Clean-Up
DESCRIPTION:Spring Clean-Up Tuesday\,  April 18\,  2023 In addition to regu
 lar refuse materials\,  Waste Management will pick up bulk items (large fur
 niture-type items &amp; carpeting)\,  white goods (refrigerators\,  ranges\
 ,  freezers\,  water heaters\,  washers\,  dryers\,  air conditioners\,  et
 c.) and up to 4 auto tires (no rims).\nhttps://villageofcarbonhill-il.gov/e
 vents/spring-clean-up-2/
URL:https://villageofcarbonhill-il.gov/events/spring-clean-up-2/
END:VEVENT
END:VCALENDAR